BEGIN:VCALENDAR
VERSION:2.0
PRODID:-//Namibia Ice and Inline Hockey Association - ECPv6.15.20//NONSGML v1.0//EN
CALSCALE:GREGORIAN
METHOD:PUBLISH
X-ORIGINAL-URL:https://niiha.com
X-WR-CALDESC:Events for Namibia Ice and Inline Hockey Association
REFRESH-INTERVAL;VALUE=DURATION:PT1H
X-Robots-Tag:noindex
X-PUBLISHED-TTL:PT1H
BEGIN:VTIMEZONE
TZID:Europe/Helsinki
BEGIN:DAYLIGHT
TZOFFSETFROM:+0200
TZOFFSETTO:+0300
TZNAME:EEST
DTSTART:20220327T010000
END:DAYLIGHT
BEGIN:STANDARD
TZOFFSETFROM:+0300
TZOFFSETTO:+0200
TZNAME:EET
DTSTART:20221030T010000
END:STANDARD
BEGIN:DAYLIGHT
TZOFFSETFROM:+0200
TZOFFSETTO:+0300
TZNAME:EEST
DTSTART:20230326T010000
END:DAYLIGHT
BEGIN:STANDARD
TZOFFSETFROM:+0300
TZOFFSETTO:+0200
TZNAME:EET
DTSTART:20231029T010000
END:STANDARD
BEGIN:DAYLIGHT
TZOFFSETFROM:+0200
TZOFFSETTO:+0300
TZNAME:EEST
DTSTART:20240331T010000
END:DAYLIGHT
BEGIN:STANDARD
TZOFFSETFROM:+0300
TZOFFSETTO:+0200
TZNAME:EET
DTSTART:20241027T010000
END:STANDARD
END:VTIMEZONE
BEGIN:VEVENT
DTSTART;TZID=Europe/Helsinki:20230331T180000
DTEND;TZID=Europe/Helsinki:20230402T120000
DTSTAMP:20260423T221311
CREATED:20230319T103638Z
LAST-MODIFIED:20230410T082910Z
UID:2412-1680285600-1680436800@niiha.com
SUMMARY:1st Development Camp
DESCRIPTION:This is the first development camp for any player born after 2010 (Boys) and 2009 (Girls)
URL:https://niiha.com/calendar/1st-development-camp/
LOCATION:Kamikaze Inline Hockey Club\, Sean McBride Drive\, Olympia\, Windhoek\, Khomas\, 10021\, Namibia
CATEGORIES:Development Training Camps
END:VEVENT
BEGIN:VEVENT
DTSTART;TZID=Europe/Helsinki:20230414T180000
DTEND;TZID=Europe/Helsinki:20230416T120000
DTSTAMP:20260423T221311
CREATED:20230319T110257Z
LAST-MODIFIED:20230410T082910Z
UID:2431-1681495200-1681646400@niiha.com
SUMMARY:3rd National Training Camp
DESCRIPTION:This is the 3rd National Training Camp for our national training group players only.
URL:https://niiha.com/calendar/3rd-national-training-camp/
LOCATION:Coastal Pirates Inline Hockey Club\, MTC Dome\, Welwitschia Street\, Swakopmund\, Erongo\, 13001
CATEGORIES:National Training Camps
END:VEVENT
BEGIN:VEVENT
DTSTART;TZID=Europe/Helsinki:20230420T120000
DTEND;TZID=Europe/Helsinki:20230423T140000
DTSTAMP:20260423T221311
CREATED:20230319T123603Z
LAST-MODIFIED:20230410T082910Z
UID:2436-1681992000-1682258400@niiha.com
SUMMARY:Badgers Tournament
DESCRIPTION:The first official tournament for 2023 hosted by the Badgers Inline Hockey Club
URL:https://niiha.com/calendar/badgers-tournament/
LOCATION:Badgers Inline Hockey Club\, Centaurus Road\, Luxury Hill\, Windhoek\, Khomas\, 10000\, Namibia
CATEGORIES:Tournaments
END:VEVENT
END:VCALENDAR