BEGIN:VCALENDAR
VERSION:2.0
PRODID:-//Namibia Ice and Inline Hockey Association - ECPv6.15.20//NONSGML v1.0//EN
CALSCALE:GREGORIAN
METHOD:PUBLISH
X-WR-CALNAME:Namibia Ice and Inline Hockey Association
X-ORIGINAL-URL:https://niiha.com
X-WR-CALDESC:Events for Namibia Ice and Inline Hockey Association
REFRESH-INTERVAL;VALUE=DURATION:PT1H
X-Robots-Tag:noindex
X-PUBLISHED-TTL:PT1H
BEGIN:VTIMEZONE
TZID:Europe/Helsinki
BEGIN:DAYLIGHT
TZOFFSETFROM:+0200
TZOFFSETTO:+0300
TZNAME:EEST
DTSTART:20220327T010000
END:DAYLIGHT
BEGIN:STANDARD
TZOFFSETFROM:+0300
TZOFFSETTO:+0200
TZNAME:EET
DTSTART:20221030T010000
END:STANDARD
BEGIN:DAYLIGHT
TZOFFSETFROM:+0200
TZOFFSETTO:+0300
TZNAME:EEST
DTSTART:20230326T010000
END:DAYLIGHT
BEGIN:STANDARD
TZOFFSETFROM:+0300
TZOFFSETTO:+0200
TZNAME:EET
DTSTART:20231029T010000
END:STANDARD
BEGIN:DAYLIGHT
TZOFFSETFROM:+0200
TZOFFSETTO:+0300
TZNAME:EEST
DTSTART:20240331T010000
END:DAYLIGHT
BEGIN:STANDARD
TZOFFSETFROM:+0300
TZOFFSETTO:+0200
TZNAME:EET
DTSTART:20241027T010000
END:STANDARD
BEGIN:DAYLIGHT
TZOFFSETFROM:+0200
TZOFFSETTO:+0300
TZNAME:EEST
DTSTART:20250330T010000
END:DAYLIGHT
BEGIN:STANDARD
TZOFFSETFROM:+0300
TZOFFSETTO:+0200
TZNAME:EET
DTSTART:20251026T010000
END:STANDARD
BEGIN:DAYLIGHT
TZOFFSETFROM:+0200
TZOFFSETTO:+0300
TZNAME:EEST
DTSTART:20260329T010000
END:DAYLIGHT
BEGIN:STANDARD
TZOFFSETFROM:+0300
TZOFFSETTO:+0200
TZNAME:EET
DTSTART:20261025T010000
END:STANDARD
BEGIN:DAYLIGHT
TZOFFSETFROM:+0200
TZOFFSETTO:+0300
TZNAME:EEST
DTSTART:20270328T010000
END:DAYLIGHT
BEGIN:STANDARD
TZOFFSETFROM:+0300
TZOFFSETTO:+0200
TZNAME:EET
DTSTART:20271031T010000
END:STANDARD
END:VTIMEZONE
BEGIN:VEVENT
DTSTART;TZID=Europe/Helsinki:20260206T180000
DTEND;TZID=Europe/Helsinki:20260208T120000
DTSTAMP:20260421T142910
CREATED:20230319T131556Z
LAST-MODIFIED:20250924T172903Z
UID:2484-1770400800-1770552000@niiha.com
SUMMARY:National Trials - Senior & Junior Men + Senior & Junior Ladies
DESCRIPTION:
URL:https://niiha.com/calendar/trials-weekend/
LOCATION:Badgers Inline Hockey Club\, Centaurus Road\, Luxury Hill\, Windhoek\, Khomas\, 10000\, Namibia
CATEGORIES:National Training Camps
END:VEVENT
BEGIN:VEVENT
DTSTART;VALUE=DATE:20240412
DTEND;VALUE=DATE:20240415
DTSTAMP:20260421T142910
CREATED:20240106T163716Z
LAST-MODIFIED:20240106T163716Z
UID:7536-1712880000-1713139199@niiha.com
SUMMARY:4th National Training Camp
DESCRIPTION:
URL:https://niiha.com/calendar/4th-national-training-camp-2/
LOCATION:Coastal Pirates Inline Hockey Club\, MTC Dome\, Welwitschia Street\, Swakopmund\, Erongo\, 13001
CATEGORIES:National Training Camps
END:VEVENT
BEGIN:VEVENT
DTSTART;VALUE=DATE:20240223
DTEND;VALUE=DATE:20240226
DTSTAMP:20260421T142910
CREATED:20240106T162733Z
LAST-MODIFIED:20240106T162733Z
UID:7526-1708646400-1708905599@niiha.com
SUMMARY:3rd National Training Camp
DESCRIPTION:
URL:https://niiha.com/calendar/3rd-national-training-camp-2/
LOCATION:Badgers Inline Hockey Club\, Centaurus Road\, Luxury Hill\, Windhoek\, Khomas\, 10000\, Namibia
CATEGORIES:National Training Camps
END:VEVENT
BEGIN:VEVENT
DTSTART;VALUE=DATE:20240126
DTEND;VALUE=DATE:20240129
DTSTAMP:20260421T142910
CREATED:20240106T162018Z
LAST-MODIFIED:20240106T162018Z
UID:7518-1706227200-1706486399@niiha.com
SUMMARY:2nd National Training Camp
DESCRIPTION:
URL:https://niiha.com/calendar/2nd-national-training-camp-2/
LOCATION:Coastal Pirates Inline Hockey Club\, MTC Dome\, Welwitschia Street\, Swakopmund\, Erongo\, 13001
CATEGORIES:National Training Camps
END:VEVENT
BEGIN:VEVENT
DTSTART;VALUE=DATE:20240109
DTEND;VALUE=DATE:20240111
DTSTAMP:20260421T142910
CREATED:20240106T160446Z
LAST-MODIFIED:20240106T161330Z
UID:7513-1704758400-1704931199@niiha.com
SUMMARY:1st National Training Camp
DESCRIPTION:Non-compulsory camp for all National players.
URL:https://niiha.com/calendar/1st-national-training-camp/
LOCATION:Coastal Pirates Inline Hockey Club\, MTC Dome\, Welwitschia Street\, Swakopmund\, Erongo\, 13001
CATEGORIES:National Training Camps
END:VEVENT
BEGIN:VEVENT
DTSTART;TZID=Europe/Helsinki:20230707T180000
DTEND;TZID=Europe/Helsinki:20230709T120000
DTSTAMP:20260421T142910
CREATED:20230319T125634Z
LAST-MODIFIED:20230424T162647Z
UID:2455-1688752800-1688904000@niiha.com
SUMMARY:6th National Training Camp
DESCRIPTION:
URL:https://niiha.com/calendar/6th-national-training-camp/
LOCATION:Coastal Pirates Inline Hockey Club\, MTC Dome\, Welwitschia Street\, Swakopmund\, Erongo\, 13001
CATEGORIES:National Training Camps
END:VEVENT
BEGIN:VEVENT
DTSTART;TZID=Europe/Helsinki:20230623T180000
DTEND;TZID=Europe/Helsinki:20230625T120000
DTSTAMP:20260421T142910
CREATED:20230319T124750Z
LAST-MODIFIED:20230520T150224Z
UID:2445-1687543200-1687694400@niiha.com
SUMMARY:5th National Training Camp
DESCRIPTION:
URL:https://niiha.com/calendar/5th-national-training-camp/
LOCATION:Coastal Pirates Inline Hockey Club\, MTC Dome\, Welwitschia Street\, Swakopmund\, Erongo\, 13001
CATEGORIES:National Training Camps
END:VEVENT
BEGIN:VEVENT
DTSTART;TZID=Europe/Helsinki:20230524T180000
DTEND;TZID=Europe/Helsinki:20230528T120000
DTSTAMP:20260421T142910
CREATED:20230319T124118Z
LAST-MODIFIED:20230424T162512Z
UID:2440-1684951200-1685275200@niiha.com
SUMMARY:4th National Training Camp
DESCRIPTION:
URL:https://niiha.com/calendar/4th-national-training-camp/
LOCATION:Coastal Pirates Inline Hockey Club\, MTC Dome\, Welwitschia Street\, Swakopmund\, Erongo\, 13001
CATEGORIES:National Training Camps
END:VEVENT
BEGIN:VEVENT
DTSTART;TZID=Europe/Helsinki:20230414T180000
DTEND;TZID=Europe/Helsinki:20230416T120000
DTSTAMP:20260421T142910
CREATED:20230319T110257Z
LAST-MODIFIED:20230410T082910Z
UID:2431-1681495200-1681646400@niiha.com
SUMMARY:3rd National Training Camp
DESCRIPTION:This is the 3rd National Training Camp for our national training group players only.
URL:https://niiha.com/calendar/3rd-national-training-camp/
LOCATION:Coastal Pirates Inline Hockey Club\, MTC Dome\, Welwitschia Street\, Swakopmund\, Erongo\, 13001
CATEGORIES:National Training Camps
END:VEVENT
BEGIN:VEVENT
DTSTART;TZID=Europe/Helsinki:20230324T180000
DTEND;TZID=Europe/Helsinki:20230326T120000
DTSTAMP:20260421T142910
CREATED:20230319T102758Z
LAST-MODIFIED:20230410T082910Z
UID:2407-1679680800-1679832000@niiha.com
SUMMARY:2nd National Training Camp
DESCRIPTION:This is the 2nd National Training Camp for our national training group players only.
URL:https://niiha.com/calendar/2nd-national-training-camp/
LOCATION:Kamikaze Inline Hockey Club\, Sean McBride Drive\, Olympia\, Windhoek\, Khomas\, 10021\, Namibia
CATEGORIES:National Training Camps
END:VEVENT
END:VCALENDAR