BEGIN:VCALENDAR
VERSION:2.0
PRODID:-//Namibia Ice and Inline Hockey Association - ECPv6.15.20//NONSGML v1.0//EN
CALSCALE:GREGORIAN
METHOD:PUBLISH
X-ORIGINAL-URL:https://niiha.com
X-WR-CALDESC:Events for Namibia Ice and Inline Hockey Association
REFRESH-INTERVAL;VALUE=DURATION:PT1H
X-Robots-Tag:noindex
X-PUBLISHED-TTL:PT1H
BEGIN:VTIMEZONE
TZID:Europe/Helsinki
BEGIN:DAYLIGHT
TZOFFSETFROM:+0200
TZOFFSETTO:+0300
TZNAME:EEST
DTSTART:20220327T010000
END:DAYLIGHT
BEGIN:STANDARD
TZOFFSETFROM:+0300
TZOFFSETTO:+0200
TZNAME:EET
DTSTART:20221030T010000
END:STANDARD
BEGIN:DAYLIGHT
TZOFFSETFROM:+0200
TZOFFSETTO:+0300
TZNAME:EEST
DTSTART:20230326T010000
END:DAYLIGHT
BEGIN:STANDARD
TZOFFSETFROM:+0300
TZOFFSETTO:+0200
TZNAME:EET
DTSTART:20231029T010000
END:STANDARD
BEGIN:DAYLIGHT
TZOFFSETFROM:+0200
TZOFFSETTO:+0300
TZNAME:EEST
DTSTART:20240331T010000
END:DAYLIGHT
BEGIN:STANDARD
TZOFFSETFROM:+0300
TZOFFSETTO:+0200
TZNAME:EET
DTSTART:20241027T010000
END:STANDARD
BEGIN:DAYLIGHT
TZOFFSETFROM:+0200
TZOFFSETTO:+0300
TZNAME:EEST
DTSTART:20250330T010000
END:DAYLIGHT
BEGIN:STANDARD
TZOFFSETFROM:+0300
TZOFFSETTO:+0200
TZNAME:EET
DTSTART:20251026T010000
END:STANDARD
BEGIN:DAYLIGHT
TZOFFSETFROM:+0200
TZOFFSETTO:+0300
TZNAME:EEST
DTSTART:20260329T010000
END:DAYLIGHT
BEGIN:STANDARD
TZOFFSETFROM:+0300
TZOFFSETTO:+0200
TZNAME:EET
DTSTART:20261025T010000
END:STANDARD
END:VTIMEZONE
BEGIN:VEVENT
DTSTART;VALUE=DATE:20251010
DTEND;VALUE=DATE:20251013
DTSTAMP:20260420T171147
CREATED:20240106T164829Z
LAST-MODIFIED:20250924T172512Z
UID:7550-1760054400-1760313599@niiha.com
SUMMARY:Development Trials
DESCRIPTION:
URL:https://niiha.com/calendar/trials/
LOCATION:Badgers Inline Hockey Club\, Centaurus Road\, Luxury Hill\, Windhoek\, Khomas\, 10000\, Namibia
CATEGORIES:Development Training Camps
ORGANIZER;CN="NIIHA":MAILTO:sportsofficer@niiha.com
END:VEVENT
BEGIN:VEVENT
DTSTART;VALUE=DATE:20240315
DTEND;VALUE=DATE:20240318
DTSTAMP:20260420T171147
CREATED:20240106T163145Z
LAST-MODIFIED:20240106T163145Z
UID:7532-1710460800-1710719999@niiha.com
SUMMARY:4th Development Training Camp
DESCRIPTION:Camp open to players selected for Sparta Cup
URL:https://niiha.com/calendar/4th-development-training-camp/
LOCATION:Kamikaze Inline Hockey Club\, Sean McBride Drive\, Olympia\, Windhoek\, Khomas\, 10021\, Namibia
CATEGORIES:Development Training Camps
END:VEVENT
BEGIN:VEVENT
DTSTART;VALUE=DATE:20240301
DTEND;VALUE=DATE:20240304
DTSTAMP:20260420T171147
CREATED:20240106T162906Z
LAST-MODIFIED:20240106T162906Z
UID:7528-1709251200-1709510399@niiha.com
SUMMARY:3rd Development Camp
DESCRIPTION:Camp open to players selected for Sparta Cup
URL:https://niiha.com/calendar/3rd-development-camp-2/
LOCATION:Coastal Pirates Inline Hockey Club\, MTC Dome\, Welwitschia Street\, Swakopmund\, Erongo\, 13001
CATEGORIES:Development Training Camps
END:VEVENT
BEGIN:VEVENT
DTSTART;VALUE=DATE:20240209
DTEND;VALUE=DATE:20240212
DTSTAMP:20260420T171147
CREATED:20240106T162201Z
LAST-MODIFIED:20240124T063832Z
UID:7520-1707436800-1707695999@niiha.com
SUMMARY:2nd Development Camp
DESCRIPTION:Camp open to players selected for Sparta Cup
URL:https://niiha.com/calendar/2nd-development-camp-2/
LOCATION:Badgers Inline Hockey Club\, Centaurus Road\, Luxury Hill\, Windhoek\, Khomas\, 10000\, Namibia
CATEGORIES:Development Training Camps
END:VEVENT
BEGIN:VEVENT
DTSTART;VALUE=DATE:20240119
DTEND;VALUE=DATE:20240122
DTSTAMP:20260420T171147
CREATED:20240106T161008Z
LAST-MODIFIED:20240106T161008Z
UID:7515-1705622400-1705881599@niiha.com
SUMMARY:1st Development Camp
DESCRIPTION:Camp open to players selected for Sparta Cup.
URL:https://niiha.com/calendar/1st-development-camp-2/
LOCATION:Coastal Pirates Inline Hockey Club\, MTC Dome\, Welwitschia Street\, Swakopmund\, Erongo\, 13001
CATEGORIES:Development Training Camps
END:VEVENT
BEGIN:VEVENT
DTSTART;TZID=Europe/Helsinki:20231013T180000
DTEND;TZID=Europe/Helsinki:20231015T120000
DTSTAMP:20260420T171147
CREATED:20230319T131124Z
LAST-MODIFIED:20231012T200556Z
UID:2478-1697220000-1697371200@niiha.com
SUMMARY:5th Development Camp
DESCRIPTION:This is the 5th development camp for players born in 2008 and 2009 only.
URL:https://niiha.com/calendar/5th-development-camp/
LOCATION:Scorpions Inline Hockey Club\, Son Road\, Otjiwarongo Industrial\, Otjiwarongo\, Otjozondjupa\, 12001\, Namibia
CATEGORIES:Development Training Camps
END:VEVENT
BEGIN:VEVENT
DTSTART;TZID=Europe/Helsinki:20230915T180000
DTEND;TZID=Europe/Helsinki:20230917T120000
DTSTAMP:20260420T171147
CREATED:20230319T130652Z
LAST-MODIFIED:20230424T162953Z
UID:2471-1694800800-1694952000@niiha.com
SUMMARY:4th Development Camp
DESCRIPTION:
URL:https://niiha.com/calendar/4th-development-camp/
LOCATION:Coastal Pirates Inline Hockey Club\, MTC Dome\, Welwitschia Street\, Swakopmund\, Erongo\, 13001
CATEGORIES:Development Training Camps
END:VEVENT
BEGIN:VEVENT
DTSTART;TZID=Europe/Helsinki:20230721T180000
DTEND;TZID=Europe/Helsinki:20230723T120000
DTSTAMP:20260420T171147
CREATED:20230319T125827Z
LAST-MODIFIED:20230424T162658Z
UID:2458-1689962400-1690113600@niiha.com
SUMMARY:3rd Development Camp
DESCRIPTION:
URL:https://niiha.com/calendar/3rd-development-camp/
LOCATION:Kamikaze Inline Hockey Club\, Sean McBride Drive\, Olympia\, Windhoek\, Khomas\, 10021\, Namibia
CATEGORIES:Development Training Camps
END:VEVENT
BEGIN:VEVENT
DTSTART;TZID=Europe/Helsinki:20230616T180000
DTEND;TZID=Europe/Helsinki:20230618T120000
DTSTAMP:20260420T171147
CREATED:20230319T124948Z
LAST-MODIFIED:20230424T162622Z
UID:2448-1686938400-1687089600@niiha.com
SUMMARY:2nd Development Camp
DESCRIPTION:
URL:https://niiha.com/calendar/2nd-development-camp/
LOCATION:Scorpions Inline Hockey Club\, Son Road\, Otjiwarongo Industrial\, Otjiwarongo\, Otjozondjupa\, 12001\, Namibia
CATEGORIES:Development Training Camps
END:VEVENT
BEGIN:VEVENT
DTSTART;TZID=Europe/Helsinki:20230331T180000
DTEND;TZID=Europe/Helsinki:20230402T120000
DTSTAMP:20260420T171147
CREATED:20230319T103638Z
LAST-MODIFIED:20230410T082910Z
UID:2412-1680285600-1680436800@niiha.com
SUMMARY:1st Development Camp
DESCRIPTION:This is the first development camp for any player born after 2010 (Boys) and 2009 (Girls)
URL:https://niiha.com/calendar/1st-development-camp/
LOCATION:Kamikaze Inline Hockey Club\, Sean McBride Drive\, Olympia\, Windhoek\, Khomas\, 10021\, Namibia
CATEGORIES:Development Training Camps
END:VEVENT
END:VCALENDAR